Workbook

Sheet Presupuesto de Tesorería
B2: PRESUPUESTO DE TESORERÍA
B3: Enero | C3: Febrero | D3: Marzo | E3: Abril | F3: Mayo | G3: Junio | H3: Julio | I3: Agosto | J3: Septiembre | K3: Octubre | L3: Noviembre | M3: Diciembre
A4: Saldo Inicial | B4: 1300 | C4: =B34 -> 476.04493 | D4: =C34 -> 1145.4274 | E4: =D34 -> 2042.7376 | F4: =E34 -> 3030.7256 | G4: =F34 -> 6169.6273 | H4: =G34 -> 8395.1221 | I4: =H34 -> 5746.3266 | J4: =I34 -> 908.11358 | ... M4: =L34 -> 84.028608
A5: Operaciones del negocio
A6: Entradas | B6: =B7 -> 9469.6333 | C6: =C7 -> 10344.978 | D6: =D7 -> 12095.666 | E6: =E7 -> 13528.048 | F6: =F7 -> 14721.699 | G6: =G7 -> 13130.164 | H6: =H7 -> 9549.21 | J6: =J7 -> 7718.9448 | K6: =K7 -> 9230.903 | L6: =L7 -> 10822.438 | M6: =M7 -> 11936.513
A7: Ventas | B7: ='Ventas-Compras'!B39 -> 9469.6333 | C7: ='Ventas-Compras'!C39 -> 10344.978 | D7: ='Ventas-Compras'!D39 -> 12095.666 | E7: ='Ventas-Compras'!E39 -> 13528.048 | F7: ='Ventas-Compras'!F39 -> 14721.699 | G7: ='Ventas-Compras'!G39 -> 13130.164 | H7: ='Ventas-Compras'!H39 -> 9549.21 | J7: ='Ventas-Compras'!J39 -> 7718.9448 | K7: ='Ventas-Compras'!K39 -> 9230.903 | L7: ='Ventas-Compras'!L39 -> 10822.438 | M7: ='Ventas-Compras'!M39 -> 11936.513
A8: Salidas | B8: =SUM(B9:B24) -> -9108.1753 | C8: =SUM(C9:C24) -> -8490.182 | D8: =SUM(D9:D24) -> -10012.943 | E8: =SUM(E9:E24) -> -11354.646 | F8: =SUM(F9:F24) -> -10397.384 | G8: =SUM(G9:G24) -> -9719.256 | H8: =SUM(H9:H24) -> -11012.592 | I8: =SUM(I9:I24) -> -3652.8 | ... M8: =SUM(M9:M24) -> -9770.6866
A9: Compras | B9: ='Ventas-Compras'!B59*-1 -> -4178.8516 | C9: ='Ventas-Compras'!C59*-1 -> -4565.132 | D9: ='Ventas-Compras'!D59*-1 -> -5337.6928 | E9: ='Ventas-Compras'!E59*-1 -> -5969.788 | F9: ='Ventas-Compras'!F59*-1 -> -6496.534 | G9: ='Ventas-Compras'!G59*-1 -> -5794.206 | H9: ='Ventas-Compras'!H59*-1 -> -4213.968 | J9: ='Ventas-Compras'!J59*-1 -> -3406.2908 | K9: ='Ventas-Compras'!K59*-1 -> -4073.5024 | L9: ='Ventas-Compras'!L59*-1 -> -4775.8304 | M9: ='Ventas-Compras'!M59*-1 -> -5267.46
A10: Personal | B10: =Gastos!$F$6*-1 -> -1879.3 | C10: -1879.3 | D10: -1879.3 | E10: -1879.3 | F10: -1879.3 | G10: -1879.3 | H10: -1879.3 | I10: -1879.3 | J10: -1879.3 | K10: -1879.3 | L10: -1879.3 | M10: -1879.3
A11: Arrendamiento | B11: =Gastos!$E$10*-1 -> -726 | C11: =Gastos!$E$10*-1 -> -726 | D11: =Gastos!$E$10*-1 -> -726 | E11: =Gastos!$E$10*-1 -> -726 | F11: =Gastos!$E$10*-1 -> -726 | G11: =Gastos!$E$10*-1 -> -726 | H11: =Gastos!$E$10*-1 -> -726 | I11: =Gastos!$E$10*-1 -> -726 | ... M11: =Gastos!$E$10*-1 -> -726
A12: Mantenimiento | B12: =Gastos!$E$11*-1 -> -121 | C12: =Gastos!$E$11*-1 -> -121 | D12: =Gastos!$E$11*-1 -> -121 | E12: =Gastos!$E$11*-1 -> -121 | F12: =Gastos!$E$11*-1 -> -121 | G12: =Gastos!$E$11*-1 -> -121 | H12: =Gastos!$E$11*-1 -> -121 | J12: =Gastos!$E$11*-1 -> -121 | K12: =Gastos!$E$11*-1 -> -121 | L12: =Gastos!$E$11*-1 -> -121 | M12: =Gastos!$E$11*-1 -> -121
A13: Seguro | D13: =Gastos!E12*-1 -> -847
A14: Combustible | B14: =Gastos!$E$13*-1 -> -151.25 | C14: =Gastos!$E$13*-1 -> -151.25 | D14: =Gastos!$E$13*-1 -> -151.25 | E14: =Gastos!$E$13*-1 -> -151.25 | F14: =Gastos!$E$13*-1 -> -151.25 | G14: =Gastos!$E$13*-1 -> -151.25 | H14: =Gastos!$E$13*-1 -> -151.25 | J14: =Gastos!$E$13*-1 -> -151.25 | K14: =Gastos!$E$13*-1 -> -151.25 | L14: =Gastos!$E$13*-1 -> -151.25 | M14: =Gastos!$E$13*-1 -> -151.25
A15: Mantenimiento furgoneta | B15: =Gastos!$E$14*-1 -> -72.6 | F15: =Gastos!$E$14*-1 -> -72.6 | J15: =Gastos!$E$14*-1 -> -72.6
A16: Neumáticos | J16: =Gastos!E15*-1 -> -266.2
A17: Asesor | B17: =Gastos!$E$16*-1 -> -121 | C17: =Gastos!$E$16*-1 -> -121 | D17: =Gastos!$E$16*-1 -> -121 | E17: =Gastos!$E$16*-1 -> -121 | F17: =Gastos!$E$16*-1 -> -121 | G17: =Gastos!$E$16*-1 -> -121 | H17: =Gastos!$E$16*-1 -> -121 | I17: =Gastos!$E$16*-1 -> -121 | ... M17: =Gastos!$E$16*-1 -> -121
A18: Electricidad | C18: =Gastos!$E$17*-1 -> -96.8 | E18: =Gastos!$E$17*-1 -> -96.8 | G18: =Gastos!$E$17*-1 -> -96.8 | I18: =Gastos!$E$17*-1 -> -96.8 | K18: =Gastos!$E$17*-1 -> -96.8 | M18: =Gastos!$E$17*-1 -> -96.8
A19: Agua | B19: =Gastos!$E$18*-1 -> -24.2 | E19: =Gastos!$E$18*-1 -> -24.2 | H19: =Gastos!$E$18*-1 -> -24.2 | K19: =Gastos!$E$18*-1 -> -24.2
A20: Impuestos y otros
A21: Seguridad Social | B21: =Gastos!$I$6*-1 -> -683.7 | C21: =Gastos!$I$6*-1 -> -683.7 | D21: =Gastos!$I$6*-1 -> -683.7 | E21: =Gastos!$I$6*-1 -> -683.7 | F21: =Gastos!$I$6*-1 -> -683.7 | G21: =Gastos!$I$6*-1 -> -683.7 | H21: =Gastos!$I$6*-1 -> -683.7 | I21: =Gastos!$I$6*-1 -> -683.7 | ... M21: =Gastos!$I$6*-1 -> -683.7
A22: IRPF | B22: =Gastos!$J$6*-1 -> -146 | C22: =Gastos!$J$6*-1 -> -146 | D22: =Gastos!$J$6*-1 -> -146 | E22: =Gastos!$J$6*-1 -> -146 | F22: =Gastos!$J$6*-1 -> -146 | G22: =Gastos!$J$6*-1 -> -146 | H22: =Gastos!$J$6*-1 -> -146 | I22: =Gastos!$J$6*-1 -> -146 | ... M22: =Gastos!$J$6*-1 -> -146
A23: IVA | B23: ='Ventas-Compras'!B79*-1 -> -1004.2737 | E23: ='Ventas-Compras'!C79*-1 -> -857.43185 | H23: ='Ventas-Compras'!D79*-1 -> -1468.612 | K23: ='Ventas-Compras'!E79*-1 -> -261.78145
A24: Impuesto sobre Beneficio | E24: =Gastos!$C$20 -> -578.17661 | H24: =Gastos!C21 -> -1477.5624 | K24: =Gastos!$C$20 -> -578.17661 | M24: =Gastos!$C$20 -> -578.17661
A25: Superávit / Déficit Operacional | B25: =B6+B8 -> 361.45795 | C25: =C6+C8 -> 1854.7955 | D25: =D6+D8 -> 2082.7232 | E25: =E6+E8 -> 2173.401 | F25: =F6+F8 -> 4324.3148 | G25: =G6+G8 -> 3410.9078 | H25: =H6+H8 -> -1463.3824 | I25: =I6+I8 -> -3652.8 | ... M25: =M6+M8 -> 2165.8259
A26: Financiación
A27: Entradas (Préstamos, Créditos,…)
A28: Salidas (Principal, intereses,…) | B28: ='CUADRO DE AMORTIZACION'!$D$26*-1 -> -1185.413 | C28: ='CUADRO DE AMORTIZACION'!$D$26*-1 -> -1185.413 | D28: ='CUADRO DE AMORTIZACION'!$D$26*-1 -> -1185.413 | E28: ='CUADRO DE AMORTIZACION'!$D$26*-1 -> -1185.413 | F28: ='CUADRO DE AMORTIZACION'!$D$26*-1 -> -1185.413 | G28: ='CUADRO DE AMORTIZACION'!$D$26*-1 -> -1185.413 | H28: ='CUADRO DE AMORTIZACION'!$D$26*-1 -> -1185.413 | I28: ='CUADRO DE AMORTIZACION'!$D$26*-1 -> -1185.413 | ... M28: ='CUADRO DE AMORTIZACION'!$D$26*-1 -> -1185.413
A29: Superávit / Déficit Financiación | B29: =B27+B28 -> -1185.413 | C29: =C27+C28 -> -1185.413 | D29: =D27+D28 -> -1185.413 | E29: =E27+E28 -> -1185.413 | F29: =F27+F28 -> -1185.413 | G29: =G27+G28 -> -1185.413 | H29: =H27+H28 -> -1185.413 | I29: =I27+I28 -> -1185.413 | ... M29: =M27+M28 -> -1185.413
A30: Inversiones
A31: Entradas (Venta de bienes)
A32: Salidas (Compra de bienes)
A33: Superávit / Déficit Inversiones | B33: =B31+B32 -> 0 | C33: =C31+C32 -> 0 | D33: =D31+D32 -> 0 | E33: =E31+E32 -> 0 | F33: =F31+F32 -> 0 | G33: =G31+G32 -> 0 | H33: =H31+H32 -> 0 | I33: =I31+I32 -> 0 | ... M33: =M31+M32 -> 0
A34: Saldo Final | B34: =B4+B25+B29+B33 -> 476.04493 | C34: =C4+C25+C29+C33 -> 1145.4274 | D34: =D4+D25+D29+D33 -> 2042.7376 | E34: =E4+E25+E29+E33 -> 3030.7256 | F34: =F4+F25+F29+F33 -> 6169.6273 | G34: =G4+G25+G29+G33 -> 8395.1221 | H34: =H4+H25+H29+H33 -> 5746.3266 | I34: =I4+I25+I29+I33 -> 908.11358 | ... M34: =M4+M25+M29+M33 -> 1064.4415
A36: Variación Saldo | B36: =B34-B4 -> -823.95507 | C36: =C34-C4 -> 669.38248 | D36: =D34-D4 -> 897.31018 | E36: =E34-E4 -> 987.98802 | F36: =F34-F4 -> 3138.9017 | G36: =G34-G4 -> 2225.4947 | H36: =H34-H4 -> -2648.7955 | I36: =I34-I4 -> -4838.213 | ... M36: =M34-M4 -> 980.41287

Sheet Ventas-Compras
B2: Precio de Venta | C2: % IVA | D2: PVP | E2: Precio de Compra | F2: % IVA | G2: PCP
A3: Productos
A4: MAÍZ CRUJIENTE (Bolsa 170 gr) | B4: 0.95 | C4: 0.1 | D4: =B4*(1+C4) -> 1.045 | E4: 0.55272727 | F4: 0.1 | G4: =E4*(1+F4) -> 0.608
A5: COCKTAIL DE FRUTOS SECOS (Bolsa 200 gr) | B5: 1.27 | C5: 0.1 | D5: =B5*(1+C5) -> 1.397 | E5: 0.73890909 | F5: 0.1 | G5: =E5*(1+F5) -> 0.8128
A6: CACAHUETES CON CÁSCARA (Bolsa 400 gr) | B6: 1.29 | C6: 0.1 | D6: =B6*(1+C6) -> 1.419 | E6: 0.56290909 | F6: 0.1 | G6: =E6*(1+F6) -> 0.6192
A7: CACAHUETES FRITOS (Bolsa 250 gr) | B7: 1.12 | C7: 0.1 | D7: =B7*(1+C7) -> 1.232 | E7: 0.48872727 | F7: 0.1 | G7: =E7*(1+F7) -> 0.5376
A8: ALMENDRAS (Bolsa 200 gr) | B8: 2.49 | C8: 0.1 | D8: =B8*(1+C8) -> 2.739 | E8: 0.72436364 | F8: 0.1 | G8: =E8*(1+F8) -> 0.7968
A9: NUEZ MONDADA (Bolsa 200 gr) | B9: 2.79 | C9: 0.1 | D9: =B9*(1+C9) -> 3.069 | E9: 0.81163636 | F9: 0.1 | G9: =E9*(1+F9) -> 0.8928
B12: Ventas en Unidades Físicas
A13: Productos | B13: Enero | C13: Febrero | D13: Marzo | E13: Abril | F13: Mayo | G13: Junio | H13: Julio | I13: Agosto | J13: Septiembre | K13: Octubre | L13: Noviembre | M13: Diciembre
A14: MAÍZ CRUJIENTE (Bolsa 170 gr) | B14: 1190 | C14: 1300 | D14: 1520 | E14: 1700 | F14: 1850 | G14: 1650 | H14: 1200 | I14: 0 | J14: 970 | K14: 1160 | L14: 1360 | M14: 1500
A15: COCKTAIL DE FRUTOS SECOS (Bolsa 200 gr) | B15: 1785 | C15: 1950 | D15: 2280 | E15: 2550 | F15: 2775 | G15: 2475 | H15: 1800 | I15: 0 | J15: 1455 | K15: 1740 | L15: 2040 | M15: 2250
A16: CACAHUETES CON CÁSCARA (Bolsa 400 gr) | B16: 624.75 | C16: 682.5 | D16: 798 | E16: 892.5 | F16: 971.25 | G16: 866.25 | H16: 630 | I16: 0 | J16: 509.25 | K16: 609 | L16: 714 | M16: 787.5
A17: CACAHUETES FRITOS (Bolsa 250 gr) | B17: 1160.25 | C17: 1267.5 | D17: 1482 | E17: 1657.5 | F17: 1803.75 | G17: 1608.75 | H17: 1170 | I17: 0 | J17: 945.75 | K17: 1131 | L17: 1326 | M17: 1462.5
A18: ALMENDRAS (Bolsa 200 gr) | B18: 714 | C18: 780 | D18: 912 | E18: 1020 | F18: 1110 | G18: 990 | H18: 720 | I18: 0 | J18: 582 | K18: 696 | L18: 816 | M18: 900
A19: NUEZ MONDADA (Bolsa 200 gr) | B19: 476 | C19: 520 | D19: 608 | E19: 680 | F19: 740 | G19: 660 | H19: 480 | I19: 0 | J19: 388 | K19: 464 | L19: 544 | M19: 600
B20: =SUM(B14:B19) -> 5950 | C20: 6500 | D20: 7600 | E20: 8500 | F20: 9250 | G20: 8250 | H20: 6000 | J20: 4850 | K20: 5800 | L20: 6800 | M20: 7500
B21: Ventas en €uros (sin IVA)
A22: Productos | B22: Enero | C22: Febrero | D22: Marzo | E22: Abril | F22: Mayo | G22: Junio | H22: Julio | I22: Agosto | J22: Septiembre | K22: Octubre | L22: Noviembre | M22: Diciembre
A23: MAÍZ CRUJIENTE (Bolsa 170 gr) | B23: =B14*$B$4 -> 1130.5 | C23: =C14*$B$4 -> 1235 | D23: =D14*$B$4 -> 1444 | E23: =E14*$B$4 -> 1615 | F23: =F14*$B$4 -> 1757.5 | G23: =G14*$B$4 -> 1567.5 | H23: =H14*$B$4 -> 1140 | I23: =I14*$B$4 -> 0 | ... M23: =M14*$B$4 -> 1425
A24: COCKTAIL DE FRUTOS SECOS (Bolsa 200 gr) | B24: =B15*$B$5 -> 2266.95 | C24: =C15*$B$5 -> 2476.5 | D24: =D15*$B$5 -> 2895.6 | E24: =E15*$B$5 -> 3238.5 | F24: =F15*$B$5 -> 3524.25 | G24: =G15*$B$5 -> 3143.25 | H24: =H15*$B$5 -> 2286 | I24: =I15*$B$5 -> 0 | ... M24: =M15*$B$5 -> 2857.5
A25: CACAHUETES CON CÁSCARA (Bolsa 400 gr) | B25: =B16*$B$6 -> 805.9275 | C25: =C16*$B$6 -> 880.425 | D25: =D16*$B$6 -> 1029.42 | E25: =E16*$B$6 -> 1151.325 | F25: =F16*$B$6 -> 1252.9125 | G25: =G16*$B$6 -> 1117.4625 | H25: =H16*$B$6 -> 812.7 | I25: =I16*$B$6 -> 0 | ... M25: =M16*$B$6 -> 1015.875
A26: CACAHUETES FRITOS (Bolsa 250 gr) | B26: =B17*$B$7 -> 1299.48 | C26: =C17*$B$7 -> 1419.6 | D26: =D17*$B$7 -> 1659.84 | E26: =E17*$B$7 -> 1856.4 | F26: =F17*$B$7 -> 2020.2 | G26: =G17*$B$7 -> 1801.8 | H26: =H17*$B$7 -> 1310.4 | I26: =I17*$B$7 -> 0 | ... M26: =M17*$B$7 -> 1638
A27: ALMENDRAS (Bolsa 200 gr) | B27: =B18*$B$8 -> 1777.86 | C27: =C18*$B$8 -> 1942.2 | D27: =D18*$B$8 -> 2270.88 | E27: =E18*$B$8 -> 2539.8 | F27: =F18*$B$8 -> 2763.9 | G27: =G18*$B$8 -> 2465.1 | H27: =H18*$B$8 -> 1792.8 | I27: =I18*$B$8 -> 0 | ... M27: =M18*$B$8 -> 2241
A28: NUEZ MONDADA (Bolsa 200 gr) | B28: =B19*$B$9 -> 1328.04 | C28: =C19*$B$9 -> 1450.8 | D28: =D19*$B$9 -> 1696.32 | E28: =E19*$B$9 -> 1897.2 | F28: =F19*$B$9 -> 2064.6 | G28: =G19*$B$9 -> 1841.4 | H28: =H19*$B$9 -> 1339.2 | I28: =I19*$B$9 -> 0 | ... M28: =M19*$B$9 -> 1674
A29: Total | B29: =SUM(B23:B28) -> 8608.7575 | C29: =SUM(C23:C28) -> 9404.525 | D29: =SUM(D23:D28) -> 10996.06 | E29: =SUM(E23:E28) -> 12298.225 | F29: =SUM(F23:F28) -> 13383.363 | G29: =SUM(G23:G28) -> 11936.512 | H29: =SUM(H23:H28) -> 8681.1 | I29: =SUM(I23:I28) -> 0 | ... M29: =SUM(M23:M28) -> 10851.375
B31: Ventas en €uros (IVA incluido)
A32: Productos | B32: Enero | C32: Febrero | D32: Marzo | E32: Abril | F32: Mayo | G32: Junio | H32: Julio | I32: Agosto | J32: Septiembre | K32: Octubre | L32: Noviembre | M32: Diciembre
A33: MAÍZ CRUJIENTE (Bolsa 170 gr) | B33: =B14*$D$4 -> 1243.55 | C33: =C14*$D$4 -> 1358.5 | D33: =D14*$D$4 -> 1588.4 | E33: =E14*$D$4 -> 1776.5 | F33: =F14*$D$4 -> 1933.25 | G33: =G14*$D$4 -> 1724.25 | H33: =H14*$D$4 -> 1254 | I33: =I14*$D$4 -> 0 | ... M33: =M14*$D$4 -> 1567.5
A34: COCKTAIL DE FRUTOS SECOS (Bolsa 200 gr) | B34: =B15*$D$5 -> 2493.645 | C34: =C15*$D$5 -> 2724.15 | D34: =D15*$D$5 -> 3185.16 | E34: =E15*$D$5 -> 3562.35 | F34: =F15*$D$5 -> 3876.675 | G34: =G15*$D$5 -> 3457.575 | H34: =H15*$D$5 -> 2514.6 | I34: =I15*$D$5 -> 0 | ... M34: =M15*$D$5 -> 3143.25
A35: CACAHUETES CON CÁSCARA (Bolsa 400 gr) | B35: =B16*$D$6 -> 886.52025 | C35: =C16*$D$6 -> 968.4675 | D35: =D16*$D$6 -> 1132.362 | E35: =E16*$D$6 -> 1266.4575 | F35: =F16*$D$6 -> 1378.2038 | G35: =G16*$D$6 -> 1229.2088 | H35: =H16*$D$6 -> 893.97 | I35: =I16*$D$6 -> 0 | ... M35: =M16*$D$6 -> 1117.4625
A36: CACAHUETES FRITOS (Bolsa 250 gr) | B36: =B17*$D$7 -> 1429.428 | C36: =C17*$D$7 -> 1561.56 | D36: =D17*$D$7 -> 1825.824 | E36: =E17*$D$7 -> 2042.04 | F36: =F17*$D$7 -> 2222.22 | G36: =G17*$D$7 -> 1981.98 | H36: =H17*$D$7 -> 1441.44 | I36: =I17*$D$7 -> 0 | ... M36: =M17*$D$7 -> 1801.8
A37: ALMENDRAS (Bolsa 200 gr) | B37: =B18*$D$8 -> 1955.646 | C37: =C18*$D$8 -> 2136.42 | D37: =D18*$D$8 -> 2497.968 | E37: =E18*$D$8 -> 2793.78 | F37: =F18*$D$8 -> 3040.29 | G37: =G18*$D$8 -> 2711.61 | H37: =H18*$D$8 -> 1972.08 | I37: =I18*$D$8 -> 0 | ... M37: =M18*$D$8 -> 2465.1
A38: NUEZ MONDADA (Bolsa 200 gr) | B38: =B19*$D$9 -> 1460.844 | C38: =C19*$D$9 -> 1595.88 | D38: =D19*$D$9 -> 1865.952 | E38: =E19*$D$9 -> 2086.92 | F38: =F19*$D$9 -> 2271.06 | G38: =G19*$D$9 -> 2025.54 | H38: =H19*$D$9 -> 1473.12 | I38: =I19*$D$9 -> 0 | ... M38: =M19*$D$9 -> 1841.4
A39: Total | B39: =SUM(B33:B38) -> 9469.6333 | C39: =SUM(C33:C38) -> 10344.978 | D39: =SUM(D33:D38) -> 12095.666 | E39: =SUM(E33:E38) -> 13528.048 | F39: =SUM(F33:F38) -> 14721.699 | G39: =SUM(G33:G38) -> 13130.164 | H39: =SUM(H33:H38) -> 9549.21 | I39: =SUM(I33:I38) -> 0 | ... M39: =SUM(M33:M38) -> 11936.513
B41: Compras en €uros (sin IVA)
A42: Productos | B42: Enero | C42: Febrero | D42: Marzo | E42: Abril | F42: Mayo | G42: Junio | H42: Julio | I42: Agosto | J42: Septiembre | K42: Octubre | L42: Noviembre | M42: Diciembre
A43: MAÍZ CRUJIENTE (Bolsa 170 gr) | B43: =B14*$E$4 -> 657.74545 | C43: =C14*$E$4 -> 718.54545 | D43: =D14*$E$4 -> 840.14545 | E43: =E14*$E$4 -> 939.63636 | F43: =F14*$E$4 -> 1022.5455 | G43: =G14*$E$4 -> 912 | H43: =H14*$E$4 -> 663.27273 | I43: =I14*$E$4 -> 0 | ... M43: =M14*$E$4 -> 829.09091
A44: COCKTAIL DE FRUTOS SECOS (Bolsa 200 gr) | B44: =B15*$E$5 -> 1318.9527 | C44: =C15*$E$5 -> 1440.8727 | D44: =D15*$E$5 -> 1684.7127 | E44: =E15*$E$5 -> 1884.2182 | F44: =F15*$E$5 -> 2050.4727 | G44: =G15*$E$5 -> 1828.8 | H44: =H15*$E$5 -> 1330.0364 | I44: =I15*$E$5 -> 0 | ... M44: =M15*$E$5 -> 1662.5455
A45: CACAHUETES CON CÁSCARA (Bolsa 400 gr) | B45: =B16*$E$6 -> 351.67745 | C45: =C16*$E$6 -> 384.18545 | D45: =D16*$E$6 -> 449.20145 | E45: =E16*$E$6 -> 502.39636 | F45: =F16*$E$6 -> 546.72545 | G45: =G16*$E$6 -> 487.62 | H45: =H16*$E$6 -> 354.63273 | I45: =I16*$E$6 -> 0 | ... M45: =M16*$E$6 -> 443.29091
...

Sheet Gastos
D2: SSocial | E2: Retención | H2: SSocial | I2: Ingreso | J2: Ingreso
B3: Personal | C3: Salario Base | D3: trabajador | E3: IRPF | F3: Salario Neto | H3: empresa | I3: Ssocial | J3: IRPF | K3: Comentarios
B4: Encargado | C4: 1200 | D4: =C4*0.058*-1 -> -69.6 | E4: =C4*0.09*-1 -> -108 | F4: =C4+SUM(D4:E4) -> 1022.4 | H4: =C4*0.26 -> 312 | I4: =D4*-1+H4 -> 381.6 | J4: =E4*-1 -> 108 | K4: Personal contratado con contrato indefinido.
B5: Persona | C5: 950 | D5: =C5*0.058*-1 -> -55.1 | E5: =C5*0.04*-1 -> -38 | F5: =C5+SUM(D5:E5) -> 856.9 | H5: =C5*0.26 -> 247 | I5: =D5*-1+H5 -> 302.1 | J5: =E5*-1 -> 38 | K5: Pagas extras prorrateadas entre todos los meses
B6: Total | C6: =C4+C5 -> 2150 | D6: =D4+D5 -> -124.7 | E6: =E4+E5 -> -146 | F6: =F4+F5 -> 1879.3 | H6: =H4+H5 -> 559 | I6: =I4+I5 -> 683.7 | J6: =J4+J5 -> 146
B9: Gastos Operativos | C9: Bruto | D9: %IVA | E9: Neto | F9: IVA | H9: Comentarios
B10: Arrendamiento | C10: 600 | D10: 0.21 | E10: =C10*(1+D10) -> 726 | F10: =E10-C10 -> 126 | H10: Arrendamiento mensual
B11: Mantenimiento | C11: 100 | D11: 0.21 | E11: =C11*(1+D11) -> 121 | F11: =E11-C11 -> 21 | H11: Empresa de mantenimiento. En agosto, toma vacaciones
B12: Seguro | C12: 700 | D12: 0.21 | E12: =C12*(1+D12) -> 847 | F12: =E12-C12 -> 147 | H12: El Seguro anual se paga en el mes de marzo
B13: Combustible | C13: 125 | D13: 0.21 | E13: =C13*(1+D13) -> 151.25 | F13: =E13-C13 -> 26.25 | H13: Estimación consumo mensual excepto agosto
B14: Mantenimiento | C14: 60 | D14: 0.21 | E14: =C14*(1+D14) -> 72.6 | F14: =E14-C14 -> 12.6 | H14: La furgoneta requiere pasar el mantenimiento cada 4 meses
B15: Neumáticos | C15: 220 | D15: 0.21 | E15: =C15*(1+D15) -> 266.2 | F15: =E15-C15 -> 46.2 | H15: Se prevee cambio de neumáticos en septiembre
B16: Asesor Contable | C16: 100 | D16: 0.21 | E16: =C16*(1+D16) -> 121 | F16: =E16-C16 -> 21 | H16: Cuota (iguala) mensual
B17: Electricidad | C17: 80 | D17: 0.21 | E17: =C17*(1+D17) -> 96.8 | F17: =E17-C17 -> 16.8 | H17: Se paga cada dos meses
B18: Agua | C18: 20 | D18: 0.21 | E18: =C18*(1+D18) -> 24.2 | F18: =E18-C18 -> 4.2 | H18: Se paga cada tres meses
B20: Pagos a cuenta Impuesto Beneficio | C20: -578.17661 | H20: Pagos en abril, octubre y diciembre. Cuantía: 18% de la cuota declarada el año pasado
B21: Pago Impuesto Beneficio año anterior | C21: -1477.5624 | H21: Pago en julio. Cuantía: 46% de la cuota declarada el año pasado

Sheet CUADRO DE AMORTIZACION
J1: 39010 | L1: 1 | M1: 1
L2: 2 | M2: 2
D3: CUADRO DE AMORTIZACIÓN DE PRÉSTAMO | L3: 3 | M3: 3
L4: 4
D5: importe | E5: 40000 | G5: PAGOS TOTALES | L5: 12
D7: años | E7: 3 | G7: PRINCIPAL | H7: =E5 -> 40000
D9: comisión de apertura | E9: 0 | G9: INTERESES | H9: =SUM(E26:E506) -> 2674.8688
D10: importe | E10: =E5 -> 40000
D11: años | E11: =E7 -> 3
D13: interés nominal | E13: 0.0425 | G13: COMISIÓN | H13: =E5*E9 -> 0
D15: periodo de pago | E15: 12 | G15: TOTAL | H15: =H7+H9+H13 -> 42674.869
D17: tipo amortización | E17: 1
D18: =IF(E17=1,"francés",IF(E17=2,"cuotas constantes",IF(E17=3,"americano","¿Qué has puesto?"))) -> francés
D22: coste efectivo | E22: =-1+(1+IRR($K$25:$K$506,$E$13/$E$15))^$E$15 -> 0.043337716
C24: =IF(E15=1,"años",IF(E15=2,"semestre",IF(E15=3,"cuatrim.",IF(E15=4,"trimestre",IF(E15=12,"meses","¿Qué has puesto?"))))) -> meses | D24: cuota | E24: intereses | F24: amortización | G24: amortizado | H24: pendiente
A25: 0 | C25: =IF(E$11*E$15<A25,"",A25) -> 0 | H25: =E10 -> 40000 | K25: =-E10*(1-E9) -> -40000
A26: 1 | C26: =IF(E$11*E$15<A26,"",A26) -> 1 | D26: =IF(C26<>"",IF(E$17=1,(H$25*E$13/E$15)/(1-(1+(E$13/E$15))^(-E$11*E$15)),IF(OR(E$17=2,E$17=3),E26+F26,"")),"") -> 1185.413 | E26: =IF(C26<>"",H25*E$13/E$15,"") -> 141.66667 | F26: =IF(C26<>"",IF(E$17=1,D26-E26,IF(E$17=2,H$25/(E$11*E$15),IF(E$17=3,IF(E$11*E$15=C26,H$25,0),""))),"") -> 1043.7464 | G26: =IF(C26<>"",G25+F26,"") -> 1043.7464 | H26: =IF(C26<>"",H25-F26,"") -> 38956.254 | K26: =+D26 -> 1185.413
A27: 2 | C27: =IF(E$11*E$15<A27,"",A27) -> 2 | D27: =IF(C27<>"",IF(E$17=1,(H$25*E$13/E$15)/(1-(1+(E$13/E$15))^(-E$11*E$15)),IF(OR(E$17=2,E$17=3),E27+F27,"")),"") -> 1185.413 | E27: =IF(C27<>"",H26*E$13/E$15,"") -> 137.97006 | F27: =IF(C27<>"",IF(E$17=1,D27-E27,IF(E$17=2,H$25/(E$11*E$15),IF(E$17=3,IF(E$11*E$15=C27,H$25,0),""))),"") -> 1047.443 | G27: =IF(C27<>"",G26+F27,"") -> 2091.1893 | H27: =IF(C27<>"",H26-F27,"") -> 37908.811 | K27: =+D27 -> 1185.413
A28: 3 | C28: =IF(E$11*E$15<A28,"",A28) -> 3 | D28: =IF(C28<>"",IF(E$17=1,(H$25*E$13/E$15)/(1-(1+(E$13/E$15))^(-E$11*E$15)),IF(OR(E$17=2,E$17=3),E28+F28,"")),"") -> 1185.413 | E28: =IF(C28<>"",H27*E$13/E$15,"") -> 134.26037 | F28: =IF(C28<>"",IF(E$17=1,D28-E28,IF(E$17=2,H$25/(E$11*E$15),IF(E$17=3,IF(E$11*E$15=C28,H$25,0),""))),"") -> 1051.1527 | G28: =IF(C28<>"",G27+F28,"") -> 3142.342 | H28: =IF(C28<>"",H27-F28,"") -> 36857.658 | K28: =+D28 -> 1185.413
A29: 4 | C29: =IF(E$11*E$15<A29,"",A29) -> 4 | D29: =IF(C29<>"",IF(E$17=1,(H$25*E$13/E$15)/(1-(1+(E$13/E$15))^(-E$11*E$15)),IF(OR(E$17=2,E$17=3),E29+F29,"")),"") -> 1185.413 | E29: =IF(C29<>"",H28*E$13/E$15,"") -> 130.53754 | F29: =IF(C29<>"",IF(E$17=1,D29-E29,IF(E$17=2,H$25/(E$11*E$15),IF(E$17=3,IF(E$11*E$15=C29,H$25,0),""))),"") -> 1054.8755 | G29: =IF(C29<>"",G28+F29,"") -> 4197.2174 | H29: =IF(C29<>"",H28-F29,"") -> 35802.783 | K29: =+D29 -> 1185.413
A30: 5 | C30: =IF(E$11*E$15<A30,"",A30) -> 5 | D30: =IF(C30<>"",IF(E$17=1,(H$25*E$13/E$15)/(1-(1+(E$13/E$15))^(-E$11*E$15)),IF(OR(E$17=2,E$17=3),E30+F30,"")),"") -> 1185.413 | E30: =IF(C30<>"",H29*E$13/E$15,"") -> 126.80152 | F30: =IF(C30<>"",IF(E$17=1,D30-E30,IF(E$17=2,H$25/(E$11*E$15),IF(E$17=3,IF(E$11*E$15=C30,H$25,0),""))),"") -> 1058.6115 | G30: =IF(C30<>"",G29+F30,"") -> 5255.8289 | H30: =IF(C30<>"",H29-F30,"") -> 34744.171 | K30: =+D30 -> 1185.413
A31: 6 | C31: =IF(E$11*E$15<A31,"",A31) -> 6 | D31: =IF(C31<>"",IF(E$17=1,(H$25*E$13/E$15)/(1-(1+(E$13/E$15))^(-E$11*E$15)),IF(OR(E$17=2,E$17=3),E31+F31,"")),"") -> 1185.413 | E31: =IF(C31<>"",H30*E$13/E$15,"") -> 123.05227 | F31: =IF(C31<>"",IF(E$17=1,D31-E31,IF(E$17=2,H$25/(E$11*E$15),IF(E$17=3,IF(E$11*E$15=C31,H$25,0),""))),"") -> 1062.3607 | G31: =IF(C31<>"",G30+F31,"") -> 6318.1897 | H31: =IF(C31<>"",H30-F31,"") -> 33681.81 | K31: =+D31 -> 1185.413
A32: 7 | C32: =IF(E$11*E$15<A32,"",A32) -> 7 | D32: =IF(C32<>"",IF(E$17=1,(H$25*E$13/E$15)/(1-(1+(E$13/E$15))^(-E$11*E$15)),IF(OR(E$17=2,E$17=3),E32+F32,"")),"") -> 1185.413 | E32: =IF(C32<>"",H31*E$13/E$15,"") -> 119.28974 | F32: =IF(C32<>"",IF(E$17=1,D32-E32,IF(E$17=2,H$25/(E$11*E$15),IF(E$17=3,IF(E$11*E$15=C32,H$25,0),""))),"") -> 1066.1233 | G32: =IF(C32<>"",G31+F32,"") -> 7384.313 | H32: =IF(C32<>"",H31-F32,"") -> 32615.687 | K32: =+D32 -> 1185.413
A33: 8 | C33: =IF(E$11*E$15<A33,"",A33) -> 8 | D33: =IF(C33<>"",IF(E$17=1,(H$25*E$13/E$15)/(1-(1+(E$13/E$15))^(-E$11*E$15)),IF(OR(E$17=2,E$17=3),E33+F33,"")),"") -> 1185.413 | E33: =IF(C33<>"",H32*E$13/E$15,"") -> 115.51389 | F33: =IF(C33<>"",IF(E$17=1,D33-E33,IF(E$17=2,H$25/(E$11*E$15),IF(E$17=3,IF(E$11*E$15=C33,H$25,0),""))),"") -> 1069.8991 | G33: =IF(C33<>"",G32+F33,"") -> 8454.2121 | H33: =IF(C33<>"",H32-F33,"") -> 31545.788 | K33: =+D33 -> 1185.413
A34: 9 | C34: =IF(E$11*E$15<A34,"",A34) -> 9 | D34: =IF(C34<>"",IF(E$17=1,(H$25*E$13/E$15)/(1-(1+(E$13/E$15))^(-E$11*E$15)),IF(OR(E$17=2,E$17=3),E34+F34,"")),"") -> 1185.413 | E34: =IF(C34<>"",H33*E$13/E$15,"") -> 111.72467 | F34: =IF(C34<>"",IF(E$17=1,D34-E34,IF(E$17=2,H$25/(E$11*E$15),IF(E$17=3,IF(E$11*E$15=C34,H$25,0),""))),"") -> 1073.6884 | G34: =IF(C34<>"",G33+F34,"") -> 9527.9005 | H34: =IF(C34<>"",H33-F34,"") -> 30472.1 | K34: =+D34 -> 1185.413
A35: 10 | C35: =IF(E$11*E$15<A35,"",A35) -> 10 | D35: =IF(C35<>"",IF(E$17=1,(H$25*E$13/E$15)/(1-(1+(E$13/E$15))^(-E$11*E$15)),IF(OR(E$17=2,E$17=3),E35+F35,"")),"") -> 1185.413 | E35: =IF(C35<>"",H34*E$13/E$15,"") -> 107.92202 | F35: =IF(C35<>"",IF(E$17=1,D35-E35,IF(E$17=2,H$25/(E$11*E$15),IF(E$17=3,IF(E$11*E$15=C35,H$25,0),""))),"") -> 1077.491 | G35: =IF(C35<>"",G34+F35,"") -> 10605.391 | H35: =IF(C35<>"",H34-F35,"") -> 29394.609 | K35: =+D35 -> 1185.413
A36: 11 | C36: =IF(E$11*E$15<A36,"",A36) -> 11 | D36: =IF(C36<>"",IF(E$17=1,(H$25*E$13/E$15)/(1-(1+(E$13/E$15))^(-E$11*E$15)),IF(OR(E$17=2,E$17=3),E36+F36,"")),"") -> 1185.413 | E36: =IF(C36<>"",H35*E$13/E$15,"") -> 104.10591 | F36: =IF(C36<>"",IF(E$17=1,D36-E36,IF(E$17=2,H$25/(E$11*E$15),IF(E$17=3,IF(E$11*E$15=C36,H$25,0),""))),"") -> 1081.3071 | G36: =IF(C36<>"",G35+F36,"") -> 11686.699 | H36: =IF(C36<>"",H35-F36,"") -> 28313.301 | K36: =+D36 -> 1185.413
A37: 12 | C37: =IF(E$11*E$15<A37,"",A37) -> 12 | D37: =IF(C37<>"",IF(E$17=1,(H$25*E$13/E$15)/(1-(1+(E$13/E$15))^(-E$11*E$15)),IF(OR(E$17=2,E$17=3),E37+F37,"")),"") -> 1185.413 | E37: =IF(C37<>"",H36*E$13/E$15,"") -> 100.27628 | F37: =IF(C37<>"",IF(E$17=1,D37-E37,IF(E$17=2,H$25/(E$11*E$15),IF(E$17=3,IF(E$11*E$15=C37,H$25,0),""))),"") -> 1085.1367 | G37: =IF(C37<>"",G36+F37,"") -> 12771.835 | H37: =IF(C37<>"",H36-F37,"") -> 27228.165 | K37: =+D37 -> 1185.413
... A506: 481 | C506: =IF(E$11*E$15<A506,"",A506) | D506: =IF(C506<>"",IF(E$17=1,(H$25*E$13/E$15)/(1-(1+(E$13/E$15))^(-E$11*E$15)),IF(OR(E$17=2,E$17=3),E506+F506,"")),"") | E506: =IF(C506<>"",H505*E$13/E$15,"") | F506: =IF(C506<>"",IF(E$17=1,D506-E506,IF(E$17=2,H$25/(E$11*E$15),IF(E$17=3,IF(E$11*E$15=C506,H$25,0),""))),"") | G506: =IF(C506<>"",G505+F506,"") | H506: =IF(C506<>"",H505-F506,"") | K506: =+D506
K507: =+D507 -> 0
